BEGIN:VCALENDAR
VERSION:2.0
PRODID:SchoolNow
CALSCALE:GREGORIAN
BEGIN:VEVENT
UID:d80efbb8-73c2-11f0-b928-0a58a9feac02
DTSTAMP:20250807T191513Z
SUMMARY:CDD Board Meeting - May 2026
LOCATION:The Verandahs Amenity Center\, located at 12375 Chenwood Avenue\, 
 Hudson\, Florida 34669.
URL;VALUE=URI:https://www.theverandahscdd.org/calendar/8480343/cdd-board-me
 eting-may-2026
DTSTART:20260505T223000Z
DTEND:20260506T003000Z
END:VEVENT
END:VCALENDAR
