BEGIN:VCALENDAR
VERSION:2.0
PRODID:SchoolNow
CALSCALE:GREGORIAN
BEGIN:VEVENT
UID:ce641e2c-73c2-11f0-a7d4-0a58a9feac02
DTSTAMP:20260331T132950Z
SUMMARY:CDD Board Meeting - Apr. 2026
LOCATION:The Verandahs Amenity Center\, located at 12375 Chenwood Avenue\, 
 Hudson\, Florida 34669.
URL;VALUE=URI:https://www.theverandahscdd.org/calendar/8480342/cdd-board-me
 eting-apr-2026
DTSTART:20260407T223000Z
DTEND:20260408T003000Z
ATTACH;FILENAME=2026-04-07 The Verandahs CDD - Final Agenda.pdf;FMTTYPE=app
 lication/pdf:https://campussuite-storage.s3.amazonaws.com/prod/1558913/6e3
 511ca-eaa0-11e9-82f1-0a20d2c7fac4/3085279/ac144930-2d05-11f1-b776-0a58a9fe
 ac02/file/2026-04-07 The Verandahs CDD - Final Agenda.pdf
END:VEVENT
END:VCALENDAR
